BEGIN:VCALENDAR
VERSION:2.0
PRODID:-//筑波大 学年暦//
BEGIN:VEVENT
SUMMARY:春季休業終了
DTSTART;VALUE=DATE:20260405
DTEND;VALUE=DATE:20260406
TRANSP:OPAQUE
END:VEVENT
BEGIN:VEVENT
SUMMARY:入学式
DTSTART;VALUE=DATE:20260406
DTEND;VALUE=DATE:20260407
TRANSP:OPAQUE
END:VEVENT
BEGIN:VEVENT
SUMMARY:新入生オリエンテーション
DTSTART;VALUE=DATE:20260406
DTEND;VALUE=DATE:20260407
TRANSP:OPAQUE
END:VEVENT
BEGIN:VEVENT
SUMMARY:新入生オリエンテーション
DTSTART;VALUE=DATE:20260407
DTEND;VALUE=DATE:20260408
TRANSP:OPAQUE
END:VEVENT
BEGIN:VEVENT
SUMMARY:新入生オリエンテーション
DTSTART;VALUE=DATE:20260408
DTEND;VALUE=DATE:20260409
TRANSP:OPAQUE
END:VEVENT
BEGIN:VEVENT
SUMMARY:学群1年次TOEIC®IPテスト（オンライン・英語プレ
 イスメントテスト）
DTSTART;VALUE=DATE:20260407
DTEND;VALUE=DATE:20260408
TRANSP:OPAQUE
END:VEVENT
BEGIN:VEVENT
SUMMARY:オリエンテーション予備日
DTSTART;VALUE=DATE:20260409
DTEND;VALUE=DATE:20260410
TRANSP:OPAQUE
END:VEVENT
BEGIN:VEVENT
SUMMARY:オリエンテーション予備日
DTSTART;VALUE=DATE:20260410
DTEND;VALUE=DATE:20260411
TRANSP:OPAQUE
END:VEVENT
BEGIN:VEVENT
SUMMARY:オリエンテーション予備日
DTSTART;VALUE=DATE:20260413
DTEND;VALUE=DATE:20260414
TRANSP:OPAQUE
END:VEVENT
BEGIN:VEVENT
SUMMARY:新入生歓迎祭（予定）
DTSTART;VALUE=DATE:20260410
DTEND;VALUE=DATE:20260411
TRANSP:OPAQUE
END:VEVENT
BEGIN:VEVENT
SUMMARY:春学期授業開始
DTSTART;VALUE=DATE:20260414
DTEND;VALUE=DATE:20260415
TRANSP:OPAQUE
END:VEVENT
BEGIN:VEVENT
SUMMARY:水曜授業
DTSTART;VALUE=DATE:20260430
DTEND;VALUE=DATE:20260501
TRANSP:OPAQUE
END:VEVENT
BEGIN:VEVENT
SUMMARY:月曜授業
DTSTART;VALUE=DATE:20260508
DTEND;VALUE=DATE:20260509
TRANSP:OPAQUE
END:VEVENT
BEGIN:VEVENT
SUMMARY:春季スポーツ・デー
DTSTART;VALUE=DATE:20260516
DTEND;VALUE=DATE:20260517
TRANSP:OPAQUE
END:VEVENT
BEGIN:VEVENT
SUMMARY:春季スポーツ・デー
DTSTART;VALUE=DATE:20260517
DTEND;VALUE=DATE:20260518
TRANSP:OPAQUE
END:VEVENT
BEGIN:VEVENT
SUMMARY:春Aモジュール後予備日
DTSTART;VALUE=DATE:20260525
DTEND;VALUE=DATE:20260526
TRANSP:OPAQUE
END:VEVENT
BEGIN:VEVENT
SUMMARY:春Bモジュール後予備日
DTSTART;VALUE=DATE:20260630
DTEND;VALUE=DATE:20260701
TRANSP:OPAQUE
END:VEVENT
BEGIN:VEVENT
SUMMARY:春Bモジュール後予備日
DTSTART;VALUE=DATE:20260701
DTEND;VALUE=DATE:20260702
TRANSP:OPAQUE
END:VEVENT
BEGIN:VEVENT
SUMMARY:学群編入学試験
DTSTART;VALUE=DATE:20260711
DTEND;VALUE=DATE:20260712
TRANSP:OPAQUE
END:VEVENT
BEGIN:VEVENT
SUMMARY:学群編入学試験
DTSTART;VALUE=DATE:20260712
DTEND;VALUE=DATE:20260713
TRANSP:OPAQUE
END:VEVENT
BEGIN:VEVENT
SUMMARY:月曜授業
DTSTART;VALUE=DATE:20260723
DTEND;VALUE=DATE:20260724
TRANSP:OPAQUE
END:VEVENT
BEGIN:VEVENT
SUMMARY:春学期授業終了
DTSTART;VALUE=DATE:20260806
DTEND;VALUE=DATE:20260807
TRANSP:OPAQUE
END:VEVENT
BEGIN:VEVENT
SUMMARY:春Cモジュール後予備日
DTSTART;VALUE=DATE:20260807
DTEND;VALUE=DATE:20260808
TRANSP:OPAQUE
END:VEVENT
BEGIN:VEVENT
SUMMARY:夏季休業開始
DTSTART;VALUE=DATE:20260808
DTEND;VALUE=DATE:20260809
TRANSP:OPAQUE
END:VEVENT
BEGIN:VEVENT
SUMMARY:夏季休業終了
DTSTART;VALUE=DATE:20260930
DTEND;VALUE=DATE:20261001
TRANSP:OPAQUE
END:VEVENT
BEGIN:VEVENT
SUMMARY:卒業式/学位記授与式
DTSTART;VALUE=DATE:20260925
DTEND;VALUE=DATE:20260926
TRANSP:OPAQUE
END:VEVENT
BEGIN:VEVENT
SUMMARY:秋学期入学式
DTSTART;VALUE=DATE:20260930
DTEND;VALUE=DATE:20261001
TRANSP:OPAQUE
END:VEVENT
BEGIN:VEVENT
SUMMARY:秋学期授業開始
DTSTART;VALUE=DATE:20261001
DTEND;VALUE=DATE:20261002
TRANSP:OPAQUE
END:VEVENT
BEGIN:VEVENT
SUMMARY:月曜授業
DTSTART;VALUE=DATE:20261015
DTEND;VALUE=DATE:20261016
TRANSP:OPAQUE
END:VEVENT
BEGIN:VEVENT
SUMMARY:学園祭
DTSTART;VALUE=DATE:20261030
DTEND;VALUE=DATE:20261031
TRANSP:OPAQUE
END:VEVENT

BEGIN:VEVENT
SUMMARY:臨時休講
DTSTART;VALUE=DATE:20261030
DTEND;VALUE=DATE:20261031
TRANSP:OPAQUE
END:VEVENT

BEGIN:VEVENT
SUMMARY:学園祭
DTSTART;VALUE=DATE:20261031
DTEND;VALUE=DATE:20261101
TRANSP:OPAQUE
END:VEVENT
BEGIN:VEVENT
SUMMARY:学園祭
DTSTART;VALUE=DATE:20261101
DTEND;VALUE=DATE:20261102
TRANSP:OPAQUE
END:VEVENT
BEGIN:VEVENT
SUMMARY:臨時休講
DTSTART;VALUE=DATE:20261102
DTEND;VALUE=DATE:20261103
TRANSP:OPAQUE
END:VEVENT
BEGIN:VEVENT
SUMMARY:秋Aモジュール後予備日
DTSTART;VALUE=DATE:20261111
DTEND;VALUE=DATE:20261112
TRANSP:OPAQUE
END:VEVENT
BEGIN:VEVENT
SUMMARY:秋季スポーツ・デー
DTSTART;VALUE=DATE:20261114
DTEND;VALUE=DATE:20261115
TRANSP:OPAQUE
END:VEVENT
BEGIN:VEVENT
SUMMARY:秋季スポーツ・デー
DTSTART;VALUE=DATE:20261115
DTEND;VALUE=DATE:20261116
TRANSP:OPAQUE
END:VEVENT
BEGIN:VEVENT
SUMMARY:水曜授業
DTSTART;VALUE=DATE:20261124
DTEND;VALUE=DATE:20261125
TRANSP:OPAQUE
END:VEVENT
BEGIN:VEVENT
SUMMARY:臨時休業
DTSTART;VALUE=DATE:20261125
DTEND;VALUE=DATE:20261126
TRANSP:OPAQUE
END:VEVENT
BEGIN:VEVENT
SUMMARY:推薦入試
DTSTART;VALUE=DATE:20261126
DTEND;VALUE=DATE:20261127
TRANSP:OPAQUE
END:VEVENT
BEGIN:VEVENT
SUMMARY:臨時休業
DTSTART;VALUE=DATE:20261126
DTEND;VALUE=DATE:20261127
TRANSP:OPAQUE
END:VEVENT
BEGIN:VEVENT
SUMMARY:推薦入試
DTSTART;VALUE=DATE:20261127
DTEND;VALUE=DATE:20261128
TRANSP:OPAQUE
END:VEVENT
BEGIN:VEVENT
SUMMARY:臨時休業
DTSTART;VALUE=DATE:20261127
DTEND;VALUE=DATE:20261128
TRANSP:OPAQUE
END:VEVENT
BEGIN:VEVENT
SUMMARY:秋Bモジュール後予備日
DTSTART;VALUE=DATE:20261223
DTEND;VALUE=DATE:20261224
TRANSP:OPAQUE
END:VEVENT
BEGIN:VEVENT
SUMMARY:秋Bモジュール後予備日
DTSTART;VALUE=DATE:20261224
DTEND;VALUE=DATE:20261225
TRANSP:OPAQUE
END:VEVENT
BEGIN:VEVENT
SUMMARY:冬季休業開始
DTSTART;VALUE=DATE:20261225
DTEND;VALUE=DATE:20261226
TRANSP:OPAQUE
END:VEVENT
BEGIN:VEVENT
SUMMARY:冬季休業終了
DTSTART;VALUE=DATE:20270105
DTEND;VALUE=DATE:20270106
TRANSP:OPAQUE
END:VEVENT
BEGIN:VEVENT
SUMMARY:月曜授業
DTSTART;VALUE=DATE:20270113
DTEND;VALUE=DATE:20270114
TRANSP:OPAQUE
END:VEVENT
BEGIN:VEVENT
SUMMARY:臨時休業
DTSTART;VALUE=DATE:20270115
DTEND;VALUE=DATE:20270116
TRANSP:OPAQUE
END:VEVENT
BEGIN:VEVENT
SUMMARY:大学入学共通テスト
DTSTART;VALUE=DATE:20270116
DTEND;VALUE=DATE:20270117
TRANSP:OPAQUE
END:VEVENT
BEGIN:VEVENT
SUMMARY:大学入学共通テスト
DTSTART;VALUE=DATE:20270117
DTEND;VALUE=DATE:20270118
TRANSP:OPAQUE
END:VEVENT
BEGIN:VEVENT
SUMMARY:臨時休業
DTSTART;VALUE=DATE:20270118
DTEND;VALUE=DATE:20270119
TRANSP:OPAQUE
END:VEVENT
BEGIN:VEVENT
SUMMARY:秋学期授業終了
DTSTART;VALUE=DATE:20270215
DTEND;VALUE=DATE:20270216
TRANSP:OPAQUE
END:VEVENT
BEGIN:VEVENT
SUMMARY:秋Cモジュール後予備日
DTSTART;VALUE=DATE:20270216
DTEND;VALUE=DATE:20270217
TRANSP:OPAQUE
END:VEVENT
BEGIN:VEVENT
SUMMARY:春季休業開始
DTSTART;VALUE=DATE:20270217
DTEND;VALUE=DATE:20270218
TRANSP:OPAQUE
END:VEVENT
BEGIN:VEVENT
SUMMARY:個別学力検査等前期日程
DTSTART;VALUE=DATE:20270225
DTEND;VALUE=DATE:20270226
TRANSP:OPAQUE
END:VEVENT
BEGIN:VEVENT
SUMMARY:個別学力検査等前期日程
DTSTART;VALUE=DATE:20270226
DTEND;VALUE=DATE:20270227
TRANSP:OPAQUE
END:VEVENT
BEGIN:VEVENT
SUMMARY:医学類卒業日
DTSTART;VALUE=DATE:20270310
DTEND;VALUE=DATE:20270311
TRANSP:OPAQUE
END:VEVENT
BEGIN:VEVENT
SUMMARY:個別学力検査等後期日程
DTSTART;VALUE=DATE:20270312
DTEND;VALUE=DATE:20270313
TRANSP:OPAQUE
END:VEVENT
BEGIN:VEVENT
SUMMARY:卒業式/学位記授与式
DTSTART;VALUE=DATE:20270325
DTEND;VALUE=DATE:20270326
TRANSP:OPAQUE
END:VEVENT
END:VCALENDAR
